Workbook

Sheet Productos
A1: CONTROL DE STOCK
A2: Cargá cada producto una vez. Las entradas y salidas se anotan en la hoja Movimientos: el stock actual se calcula solo.
A4: Código | B4: Producto | C4: Unidad | D4: Stock inicial | E4: Entradas | F4: Salidas | G4: Stock actual | H4: Mínimo | I4: Estado | J4: Costo unitario | K4: Valor del stock
A5: A01 | B5: Almendras | C5: kg | D5: 12 | E5: =IF(A5="","",SUMIF(Movimientos!B5:B204,A5,Movimientos!F5:F204)) -> 0 | F5: =IF(A5="","",SUMIF(Movimientos!B5:B204,A5,Movimientos!G5:G204)) -> 8 | G5: =IF(A5="","",D5+E5-F5) -> 4 | H5: 5 | I5: =IF(A5="","",IF(G5<=0,"Sin stock",IF(G5<=H5,"Reponer","OK"))) -> Reponer | J5: 14500 | K5: =IF(A5="","",G5*J5) -> 58000
A6: A02 | B6: Nueces peladas | C6: kg | D6: 8 | E6: =IF(A6="","",SUMIF(Movimientos!B5:B204,A6,Movimientos!F5:F204)) -> 10 | F6: =IF(A6="","",SUMIF(Movimientos!B5:B204,A6,Movimientos!G5:G204)) -> 2 | G6: =IF(A6="","",D6+E6-F6) -> 16 | H6: 4 | I6: =IF(A6="","",IF(G6<=0,"Sin stock",IF(G6<=H6,"Reponer","OK"))) -> OK | J6: 16800 | K6: =IF(A6="","",G6*J6) -> 268800
A7: B01 | B7: Avena arrollada | C7: kg | D7: 25 | E7: =IF(A7="","",SUMIF(Movimientos!B5:B204,A7,Movimientos!F5:F204)) -> 0 | F7: =IF(A7="","",SUMIF(Movimientos!B5:B204,A7,Movimientos!G5:G204)) -> 8 | G7: =IF(A7="","",D7+E7-F7) -> 17 | H7: 10 | I7: =IF(A7="","",IF(G7<=0,"Sin stock",IF(G7<=H7,"Reponer","OK"))) -> OK | J7: 2100 | K7: =IF(A7="","",G7*J7) -> 35700
A8: B02 | B8: Harina integral | C8: kg | D8: 30 | E8: =IF(A8="","",SUMIF(Movimientos!B5:B204,A8,Movimientos!F5:F204)) -> 25 | F8: =IF(A8="","",SUMIF(Movimientos!B5:B204,A8,Movimientos!G5:G204)) -> 14 | G8: =IF(A8="","",D8+E8-F8) -> 41 | H8: 12 | I8: =IF(A8="","",IF(G8<=0,"Sin stock",IF(G8<=H8,"Reponer","OK"))) -> OK | J8: 1300 | K8: =IF(A8="","",G8*J8) -> 53300
A9: C01 | B9: Yerba orgánica 500 g | C9: unidad | D9: 24 | E9: =IF(A9="","",SUMIF(Movimientos!B5:B204,A9,Movimientos!F5:F204)) -> 0 | F9: =IF(A9="","",SUMIF(Movimientos!B5:B204,A9,Movimientos!G5:G204)) -> 15 | G9: =IF(A9="","",D9+E9-F9) -> 9 | H9: 12 | I9: =IF(A9="","",IF(G9<=0,"Sin stock",IF(G9<=H9,"Reponer","OK"))) -> Reponer | J9: 3900 | K9: =IF(A9="","",G9*J9) -> 35100
A10: C02 | B10: Miel 500 g | C10: unidad | D10: 18 | E10: =IF(A10="","",SUMIF(Movimientos!B5:B204,A10,Movimientos!F5:F204)) -> 0 | F10: =IF(A10="","",SUMIF(Movimientos!B5:B204,A10,Movimientos!G5:G204)) -> 4 | G10: =IF(A10="","",D10+E10-F10) -> 14 | H10: 6 | I10: =IF(A10="","",IF(G10<=0,"Sin stock",IF(G10<=H10,"Reponer","OK"))) -> OK | J10: 5200 | K10: =IF(A10="","",G10*J10) -> 72800
A11: D01 | B11: Granola 400 g | C11: unidad | D11: 20 | E11: =IF(A11="","",SUMIF(Movimientos!B5:B204,A11,Movimientos!F5:F204)) -> 0 | F11: =IF(A11="","",SUMIF(Movimientos!B5:B204,A11,Movimientos!G5:G204)) -> 13 | G11: =IF(A11="","",D11+E11-F11) -> 7 | H11: 8 | I11: =IF(A11="","",IF(G11<=0,"Sin stock",IF(G11<=H11,"Reponer","OK"))) -> Reponer | J11: 4100 | K11: =IF(A11="","",G11*J11) -> 28700
A12: D02 | B12: Aceite de coco 360 ml | C12: unidad | D12: 6 | E12: =IF(A12="","",SUMIF(Movimientos!B5:B204,A12,Movimientos!F5:F204)) -> 0 | F12: =IF(A12="","",SUMIF(Movimientos!B5:B204,A12,Movimientos!G5:G204)) -> 6 | G12: =IF(A12="","",D12+E12-F12) -> 0 | H12: 4 | I12: =IF(A12="","",IF(G12<=0,"Sin stock",IF(G12<=H12,"Reponer","OK"))) -> Sin stock | J12: 9800 | K12: =IF(A12="","",G12*J12) -> 0
E13: =IF(A13="","",SUMIF(Movimientos!B5:B204,A13,Movimientos!F5:F204)) | F13: =IF(A13="","",SUMIF(Movimientos!B5:B204,A13,Movimientos!G5:G204)) | G13: =IF(A13="","",D13+E13-F13) | I13: =IF(A13="","",IF(G13<=0,"Sin stock",IF(G13<=H13,"Reponer","OK"))) | K13: =IF(A13="","",G13*J13)
E14: =IF(A14="","",SUMIF(Movimientos!B5:B204,A14,Movimientos!F5:F204)) | F14: =IF(A14="","",SUMIF(Movimientos!B5:B204,A14,Movimientos!G5:G204)) | G14: =IF(A14="","",D14+E14-F14) | I14: =IF(A14="","",IF(G14<=0,"Sin stock",IF(G14<=H14,"Reponer","OK"))) | K14: =IF(A14="","",G14*J14)
E15: =IF(A15="","",SUMIF(Movimientos!B5:B204,A15,Movimientos!F5:F204)) | F15: =IF(A15="","",SUMIF(Movimientos!B5:B204,A15,Movimientos!G5:G204)) | G15: =IF(A15="","",D15+E15-F15) | I15: =IF(A15="","",IF(G15<=0,"Sin stock",IF(G15<=H15,"Reponer","OK"))) | K15: =IF(A15="","",G15*J15)
E16: =IF(A16="","",SUMIF(Movimientos!B5:B204,A16,Movimientos!F5:F204)) | F16: =IF(A16="","",SUMIF(Movimientos!B5:B204,A16,Movimientos!G5:G204)) | G16: =IF(A16="","",D16+E16-F16) | I16: =IF(A16="","",IF(G16<=0,"Sin stock",IF(G16<=H16,"Reponer","OK"))) | K16: =IF(A16="","",G16*J16)
E17: =IF(A17="","",SUMIF(Movimientos!B5:B204,A17,Movimientos!F5:F204)) | F17: =IF(A17="","",SUMIF(Movimientos!B5:B204,A17,Movimientos!G5:G204)) | G17: =IF(A17="","",D17+E17-F17) | I17: =IF(A17="","",IF(G17<=0,"Sin stock",IF(G17<=H17,"Reponer","OK"))) | K17: =IF(A17="","",G17*J17)
E18: =IF(A18="","",SUMIF(Movimientos!B5:B204,A18,Movimientos!F5:F204)) | F18: =IF(A18="","",SUMIF(Movimientos!B5:B204,A18,Movimientos!G5:G204)) | G18: =IF(A18="","",D18+E18-F18) | I18: =IF(A18="","",IF(G18<=0,"Sin stock",IF(G18<=H18,"Reponer","OK"))) | K18: =IF(A18="","",G18*J18)
E19: =IF(A19="","",SUMIF(Movimientos!B5:B204,A19,Movimientos!F5:F204)) | F19: =IF(A19="","",SUMIF(Movimientos!B5:B204,A19,Movimientos!G5:G204)) | G19: =IF(A19="","",D19+E19-F19) | I19: =IF(A19="","",IF(G19<=0,"Sin stock",IF(G19<=H19,"Reponer","OK"))) | K19: =IF(A19="","",G19*J19)
E20: =IF(A20="","",SUMIF(Movimientos!B5:B204,A20,Movimientos!F5:F204)) | F20: =IF(A20="","",SUMIF(Movimientos!B5:B204,A20,Movimientos!G5:G204)) | G20: =IF(A20="","",D20+E20-F20) | I20: =IF(A20="","",IF(G20<=0,"Sin stock",IF(G20<=H20,"Reponer","OK"))) | K20: =IF(A20="","",G20*J20)
E21: =IF(A21="","",SUMIF(Movimientos!B5:B204,A21,Movimientos!F5:F204)) | F21: =IF(A21="","",SUMIF(Movimientos!B5:B204,A21,Movimientos!G5:G204)) | G21: =IF(A21="","",D21+E21-F21) | I21: =IF(A21="","",IF(G21<=0,"Sin stock",IF(G21<=H21,"Reponer","OK"))) | K21: =IF(A21="","",G21*J21)
E22: =IF(A22="","",SUMIF(Movimientos!B5:B204,A22,Movimientos!F5:F204)) | F22: =IF(A22="","",SUMIF(Movimientos!B5:B204,A22,Movimientos!G5:G204)) | G22: =IF(A22="","",D22+E22-F22) | I22: =IF(A22="","",IF(G22<=0,"Sin stock",IF(G22<=H22,"Reponer","OK"))) | K22: =IF(A22="","",G22*J22)
E23: =IF(A23="","",SUMIF(Movimientos!B5:B204,A23,Movimientos!F5:F204)) | F23: =IF(A23="","",SUMIF(Movimientos!B5:B204,A23,Movimientos!G5:G204)) | G23: =IF(A23="","",D23+E23-F23) | I23: =IF(A23="","",IF(G23<=0,"Sin stock",IF(G23<=H23,"Reponer","OK"))) | K23: =IF(A23="","",G23*J23)
E24: =IF(A24="","",SUMIF(Movimientos!B5:B204,A24,Movimientos!F5:F204)) | F24: =IF(A24="","",SUMIF(Movimientos!B5:B204,A24,Movimientos!G5:G204)) | G24: =IF(A24="","",D24+E24-F24) | I24: =IF(A24="","",IF(G24<=0,"Sin stock",IF(G24<=H24,"Reponer","OK"))) | K24: =IF(A24="","",G24*J24)
E25: =IF(A25="","",SUMIF(Movimientos!B5:B204,A25,Movimientos!F5:F204)) | F25: =IF(A25="","",SUMIF(Movimientos!B5:B204,A25,Movimientos!G5:G204)) | G25: =IF(A25="","",D25+E25-F25) | I25: =IF(A25="","",IF(G25<=0,"Sin stock",IF(G25<=H25,"Reponer","OK"))) | K25: =IF(A25="","",G25*J25)
E26: =IF(A26="","",SUMIF(Movimientos!B5:B204,A26,Movimientos!F5:F204)) | F26: =IF(A26="","",SUMIF(Movimientos!B5:B204,A26,Movimientos!G5:G204)) | G26: =IF(A26="","",D26+E26-F26) | I26: =IF(A26="","",IF(G26<=0,"Sin stock",IF(G26<=H26,"Reponer","OK"))) | K26: =IF(A26="","",G26*J26)
E27: =IF(A27="","",SUMIF(Movimientos!B5:B204,A27,Movimientos!F5:F204)) | F27: =IF(A27="","",SUMIF(Movimientos!B5:B204,A27,Movimientos!G5:G204)) | G27: =IF(A27="","",D27+E27-F27) | I27: =IF(A27="","",IF(G27<=0,"Sin stock",IF(G27<=H27,"Reponer","OK"))) | K27: =IF(A27="","",G27*J27)
E28: =IF(A28="","",SUMIF(Movimientos!B5:B204,A28,Movimientos!F5:F204)) | F28: =IF(A28="","",SUMIF(Movimientos!B5:B204,A28,Movimientos!G5:G204)) | G28: =IF(A28="","",D28+E28-F28) | I28: =IF(A28="","",IF(G28<=0,"Sin stock",IF(G28<=H28,"Reponer","OK"))) | K28: =IF(A28="","",G28*J28)
E29: =IF(A29="","",SUMIF(Movimientos!B5:B204,A29,Movimientos!F5:F204)) | F29: =IF(A29="","",SUMIF(Movimientos!B5:B204,A29,Movimientos!G5:G204)) | G29: =IF(A29="","",D29+E29-F29) | I29: =IF(A29="","",IF(G29<=0,"Sin stock",IF(G29<=H29,"Reponer","OK"))) | K29: =IF(A29="","",G29*J29)
E30: =IF(A30="","",SUMIF(Movimientos!B5:B204,A30,Movimientos!F5:F204)) | F30: =IF(A30="","",SUMIF(Movimientos!B5:B204,A30,Movimientos!G5:G204)) | G30: =IF(A30="","",D30+E30-F30) | I30: =IF(A30="","",IF(G30<=0,"Sin stock",IF(G30<=H30,"Reponer","OK"))) | K30: =IF(A30="","",G30*J30)
E31: =IF(A31="","",SUMIF(Movimientos!B5:B204,A31,Movimientos!F5:F204)) | F31: =IF(A31="","",SUMIF(Movimientos!B5:B204,A31,Movimientos!G5:G204)) | G31: =IF(A31="","",D31+E31-F31) | I31: =IF(A31="","",IF(G31<=0,"Sin stock",IF(G31<=H31,"Reponer","OK"))) | K31: =IF(A31="","",G31*J31)
E32: =IF(A32="","",SUMIF(Movimientos!B5:B204,A32,Movimientos!F5:F204)) | F32: =IF(A32="","",SUMIF(Movimientos!B5:B204,A32,Movimientos!G5:G204)) | G32: =IF(A32="","",D32+E32-F32) | I32: =IF(A32="","",IF(G32<=0,"Sin stock",IF(G32<=H32,"Reponer","OK"))) | K32: =IF(A32="","",G32*J32)
E33: =IF(A33="","",SUMIF(Movimientos!B5:B204,A33,Movimientos!F5:F204)) | F33: =IF(A33="","",SUMIF(Movimientos!B5:B204,A33,Movimientos!G5:G204)) | G33: =IF(A33="","",D33+E33-F33) | I33: =IF(A33="","",IF(G33<=0,"Sin stock",IF(G33<=H33,"Reponer","OK"))) | K33: =IF(A33="","",G33*J33)
E34: =IF(A34="","",SUMIF(Movimientos!B5:B204,A34,Movimientos!F5:F204)) | F34: =IF(A34="","",SUMIF(Movimientos!B5:B204,A34,Movimientos!G5:G204)) | G34: =IF(A34="","",D34+E34-F34) | I34: =IF(A34="","",IF(G34<=0,"Sin stock",IF(G34<=H34,"Reponer","OK"))) | K34: =IF(A34="","",G34*J34)
E35: =IF(A35="","",SUMIF(Movimientos!B5:B204,A35,Movimientos!F5:F204)) | F35: =IF(A35="","",SUMIF(Movimientos!B5:B204,A35,Movimientos!G5:G204)) | G35: =IF(A35="","",D35+E35-F35) | I35: =IF(A35="","",IF(G35<=0,"Sin stock",IF(G35<=H35,"Reponer","OK"))) | K35: =IF(A35="","",G35*J35)
E36: =IF(A36="","",SUMIF(Movimientos!B5:B204,A36,Movimientos!F5:F204)) | F36: =IF(A36="","",SUMIF(Movimientos!B5:B204,A36,Movimientos!G5:G204)) | G36: =IF(A36="","",D36+E36-F36) | I36: =IF(A36="","",IF(G36<=0,"Sin stock",IF(G36<=H36,"Reponer","OK"))) | K36: =IF(A36="","",G36*J36)
E37: =IF(A37="","",SUMIF(Movimientos!B5:B204,A37,Movimientos!F5:F204)) | F37: =IF(A37="","",SUMIF(Movimientos!B5:B204,A37,Movimientos!G5:G204)) | G37: =IF(A37="","",D37+E37-F37) | I37: =IF(A37="","",IF(G37<=0,"Sin stock",IF(G37<=H37,"Reponer","OK"))) | K37: =IF(A37="","",G37*J37)
E38: =IF(A38="","",SUMIF(Movimientos!B5:B204,A38,Movimientos!F5:F204)) | F38: =IF(A38="","",SUMIF(Movimientos!B5:B204,A38,Movimientos!G5:G204)) | G38: =IF(A38="","",D38+E38-F38) | I38: =IF(A38="","",IF(G38<=0,"Sin stock",IF(G38<=H38,"Reponer","OK"))) | K38: =IF(A38="","",G38*J38)
E39: =IF(A39="","",SUMIF(Movimientos!B5:B204,A39,Movimientos!F5:F204)) | F39: =IF(A39="","",SUMIF(Movimientos!B5:B204,A39,Movimientos!G5:G204)) | G39: =IF(A39="","",D39+E39-F39) | I39: =IF(A39="","",IF(G39<=0,"Sin stock",IF(G39<=H39,"Reponer","OK"))) | K39: =IF(A39="","",G39*J39)
E40: =IF(A40="","",SUMIF(Movimientos!B5:B204,A40,Movimientos!F5:F204)) | F40: =IF(A40="","",SUMIF(Movimientos!B5:B204,A40,Movimientos!G5:G204)) | G40: =IF(A40="","",D40+E40-F40) | I40: =IF(A40="","",IF(G40<=0,"Sin stock",IF(G40<=H40,"Reponer","OK"))) | K40: =IF(A40="","",G40*J40)
E41: =IF(A41="","",SUMIF(Movimientos!B5:B204,A41,Movimientos!F5:F204)) | F41: =IF(A41="","",SUMIF(Movimientos!B5:B204,A41,Movimientos!G5:G204)) | G41: =IF(A41="","",D41+E41-F41) | I41: =IF(A41="","",IF(G41<=0,"Sin stock",IF(G41<=H41,"Reponer","OK"))) | K41: =IF(A41="","",G41*J41)
...

Sheet Movimientos
A1: MOVIMIENTOS DE STOCK
A2: Un renglón por entrada o salida. Tipo: Entrada o Salida, tal cual. Las dos últimas columnas se calculan solas: no las toques.
A4: Fecha | B4: Código | C4: Tipo | D4: Cantidad | E4: Motivo | F4: Entra | G4: Sale
A5: 01/10/2026 | B5: A01 | C5: Salida | D5: 3 | E5: Ventas | F5: =IF(C5="Entrada",D5,0) -> 0 | G5: =IF(C5="Salida",D5,0) -> 3
A6: 01/10/2026 | B6: B01 | C6: Salida | D6: 6 | E6: Ventas | F6: =IF(C6="Entrada",D6,0) -> 0 | G6: =IF(C6="Salida",D6,0) -> 6
A7: 02/10/2026 | B7: C01 | C7: Salida | D7: 9 | E7: Ventas | F7: =IF(C7="Entrada",D7,0) -> 0 | G7: =IF(C7="Salida",D7,0) -> 9
A8: 02/10/2026 | B8: D02 | C8: Salida | D8: 3 | E8: Ventas | F8: =IF(C8="Entrada",D8,0) -> 0 | G8: =IF(C8="Salida",D8,0) -> 3
A9: 03/10/2026 | B9: A01 | C9: Salida | D9: 5 | E9: Ventas | F9: =IF(C9="Entrada",D9,0) -> 0 | G9: =IF(C9="Salida",D9,0) -> 5
A10: 03/10/2026 | B10: A02 | C10: Entrada | D10: 10 | E10: Compra al proveedor | F10: =IF(C10="Entrada",D10,0) -> 10 | G10: =IF(C10="Salida",D10,0) -> 0
A11: 04/10/2026 | B11: B02 | C11: Salida | D11: 14 | E11: Ventas | F11: =IF(C11="Entrada",D11,0) -> 0 | G11: =IF(C11="Salida",D11,0) -> 14
A12: 04/10/2026 | B12: C02 | C12: Salida | D12: 4 | E12: Ventas | F12: =IF(C12="Entrada",D12,0) -> 0 | G12: =IF(C12="Salida",D12,0) -> 4
A13: 05/10/2026 | B13: D01 | C13: Salida | D13: 13 | E13: Ventas | F13: =IF(C13="Entrada",D13,0) -> 0 | G13: =IF(C13="Salida",D13,0) -> 13
A14: 05/10/2026 | B14: B01 | C14: Salida | D14: 2 | E14: Merma: bolsa rota | F14: =IF(C14="Entrada",D14,0) -> 0 | G14: =IF(C14="Salida",D14,0) -> 2
A15: 06/10/2026 | B15: C01 | C15: Salida | D15: 6 | E15: Ventas | F15: =IF(C15="Entrada",D15,0) -> 0 | G15: =IF(C15="Salida",D15,0) -> 6
A16: 06/10/2026 | B16: D02 | C16: Salida | D16: 3 | E16: Ventas | F16: =IF(C16="Entrada",D16,0) -> 0 | G16: =IF(C16="Salida",D16,0) -> 3
... A18: 07/10/2026 | B18: A02 | C18: Salida | D18: 2 | E18: Ventas | F18: =IF(C18="Entrada",D18,0) -> 0 | G18: =IF(C18="Salida",D18,0) -> 2
F19: =IF(C19="Entrada",D19,0) -> 0 | G19: =IF(C19="Salida",D19,0) -> 0
F20: =IF(C20="Entrada",D20,0) -> 0 | G20: =IF(C20="Salida",D20,0) -> 0
F21: =IF(C21="Entrada",D21,0) -> 0 | G21: =IF(C21="Salida",D21,0) -> 0
F22: =IF(C22="Entrada",D22,0) -> 0 | G22: =IF(C22="Salida",D22,0) -> 0
F23: =IF(C23="Entrada",D23,0) -> 0 | G23: =IF(C23="Salida",D23,0) -> 0
F24: =IF(C24="Entrada",D24,0) -> 0 | G24: =IF(C24="Salida",D24,0) -> 0
F25: =IF(C25="Entrada",D25,0) -> 0 | G25: =IF(C25="Salida",D25,0) -> 0
F26: =IF(C26="Entrada",D26,0) -> 0 | G26: =IF(C26="Salida",D26,0) -> 0
F27: =IF(C27="Entrada",D27,0) -> 0 | G27: =IF(C27="Salida",D27,0) -> 0
F28: =IF(C28="Entrada",D28,0) -> 0 | G28: =IF(C28="Salida",D28,0) -> 0
F29: =IF(C29="Entrada",D29,0) -> 0 | G29: =IF(C29="Salida",D29,0) -> 0
F30: =IF(C30="Entrada",D30,0) -> 0 | G30: =IF(C30="Salida",D30,0) -> 0
... F204: =IF(C204="Entrada",D204,0) -> 0 | G204: =IF(C204="Salida",D204,0) -> 0
